BEGIN:VCALENDAR
VERSION:2.0
PRODID:-//Boro Women and Family Services - ECPv6.15.20//NONSGML v1.0//EN
CALSCALE:GREGORIAN
METHOD:PUBLISH
X-WR-CALNAME:Boro Women and Family Services
X-ORIGINAL-URL:https://www.borowomenservices.com
X-WR-CALDESC:Events for Boro Women and Family Services
REFRESH-INTERVAL;VALUE=DURATION:PT1H
X-Robots-Tag:noindex
X-PUBLISHED-TTL:PT1H
BEGIN:VTIMEZONE
TZID:UTC
BEGIN:STANDARD
TZOFFSETFROM:+0000
TZOFFSETTO:+0000
TZNAME:UTC
DTSTART:20250101T000000
END:STANDARD
END:VTIMEZONE
BEGIN:VEVENT
DTSTART;TZID=UTC:20260601T170000
DTEND;TZID=UTC:20260601T183000
DTSTAMP:20260420T134113
CREATED:20251205T171614Z
LAST-MODIFIED:20260130T190015Z
UID:811-1780333200-1780338600@www.borowomenservices.com
SUMMARY:Boro Diaper Distribution
DESCRIPTION:We are pleased to announce that we will be hosting a free diaper distribution event to assist families in need. In order to ensure that we can provide for as many families as possible\, we kindly request that users pre-register for the event. By pre-registering\, you help us better prepare and allocate resources to ensure a smooth and efficient distribution process.   \nPlease note that the availability of diapers at the event is dependent on the amount of donations we receive. \n			\n				Register Now
URL:https://www.borowomenservices.com/event/boro-diaper-distribution-06-01-26/
LOCATION:Boro Women & Family Services\, 108 High Street\, Edinboro\, PA\, 16412\, United States
CATEGORIES:Diaper Distribution
ATTACH;FMTTYPE=image/jpeg:https://www.borowomenservices.com/wp-content/uploads/2023/09/diaper-distribution-featured-1.jpg
END:VEVENT
END:VCALENDAR